BEGIN:VCALENDAR
VERSION:2.0
PRODID:SchoolNow
CALSCALE:GREGORIAN
BEGIN:VEVENT
UID:ff42412e-b04c-11f0-b3e9-0efe17e6ef0f
DTSTAMP:20251217T020515Z
SUMMARY:Class Of 2029 Meadow Farms Online Fundraiser
URL;VALUE=URI:https://www.sau14.org/emhs/calendar/8745391/class-of-2029-mea
 dow-farms-online-fundraiser
DTSTART;VALUE=DATE:20251117
DTEND;VALUE=DATE:20251118
END:VEVENT
END:VCALENDAR
