BEGIN:VCALENDAR
VERSION:2.0
PRODID:SchoolNow
CALSCALE:GREGORIAN
BEGIN:VEVENT
UID:cd6c5532-b415-11f0-b23c-0affec9420d9
DTSTAMP:20251217T020514Z
SUMMARY:HS Jazz Ensemble
URL;VALUE=URI:https://www.sau14.org/emhs/calendar/8756983/hs-jazz-ensemble
DTSTART:20251105T193000Z
DTEND:20251105T203000Z
END:VEVENT
END:VCALENDAR
