BEGIN:VCALENDAR
VERSION:2.0
PRODID:SchoolNow
CALSCALE:GREGORIAN
BEGIN:VEVENT
UID:cd6c578a-b415-11f0-a595-0affec9420d9
DTSTAMP:20251217T020514Z
SUMMARY:HS Jazz Ensemble
URL;VALUE=URI:https://www.sau14.org/emhs/calendar/8756985/hs-jazz-ensemble
DTSTART:20251006T183000Z
DTEND:20251006T193000Z
END:VEVENT
END:VCALENDAR
