BEGIN:VCALENDAR
VERSION:2.0
PRODID:SchoolNow
CALSCALE:GREGORIAN
BEGIN:VEVENT
UID:cd6c588e-b415-11f0-b3ec-0affec9420d9
DTSTAMP:20251217T020514Z
SUMMARY:8th Grade Author Visit
LOCATION:Media Center
URL;VALUE=URI:https://www.sau14.org/emhs/calendar/8756986/8th-grade-author-
 visit
DTSTART:20251210T180000Z
DTEND:20251210T192000Z
END:VEVENT
END:VCALENDAR
