BEGIN:VCALENDAR
VERSION:2.0
PRODID:SchoolNow
CALSCALE:GREGORIAN
BEGIN:VEVENT
UID:cd6c5988-b415-11f0-ae39-0affec9420d9
DTSTAMP:20251217T020514Z
SUMMARY:Street Law & Criminology Field Trip - Rockingham County Courthouse
URL;VALUE=URI:https://www.sau14.org/emhs/calendar/8756987/street-law-crimin
 ology-field-trip-rockingham-county-courthouse
DTSTART:20251202T140000Z
DTEND:20251202T170000Z
END:VEVENT
END:VCALENDAR
