BEGIN:VCALENDAR
VERSION:2.0
PRODID:SchoolNow
CALSCALE:GREGORIAN
BEGIN:VEVENT
UID:cd6c5b68-b415-11f0-974f-0affec9420d9
DTSTAMP:20251217T020514Z
SUMMARY:Class Of 2028- Dr Seuss Dress Up Day-
URL;VALUE=URI:https://www.sau14.org/emhs/calendar/8756989/class-of-2028-dr-
 seuss-dress-up-day
DTSTART;VALUE=DATE:20260302
DTEND;VALUE=DATE:20260303
END:VEVENT
END:VCALENDAR
