BEGIN:VCALENDAR
VERSION:2.0
PRODID:SchoolNow
CALSCALE:GREGORIAN
BEGIN:VEVENT
UID:cda22338-b415-11f0-8f7d-0affec9420d9
DTSTAMP:20251217T020515Z
SUMMARY:MS Jazz Band
URL;VALUE=URI:https://www.sau14.org/emhs/calendar/8756992/ms-jazz-band
DTSTART:20251014T183000Z
DTEND:20251014T193000Z
END:VEVENT
END:VCALENDAR
