BEGIN:VCALENDAR
VERSION:2.0
PRODID:SchoolNow
CALSCALE:GREGORIAN
BEGIN:VEVENT
UID:cda22478-b415-11f0-95b8-0affec9420d9
DTSTAMP:20251217T020515Z
SUMMARY:MS Jazz Band
URL;VALUE=URI:https://www.sau14.org/emhs/calendar/8756993/ms-jazz-band
DTSTART:20251021T183000Z
DTEND:20251021T193000Z
END:VEVENT
END:VCALENDAR
