BEGIN:VCALENDAR
VERSION:2.0
PRODID:SchoolNow
CALSCALE:GREGORIAN
BEGIN:VEVENT
UID:cda2268a-b415-11f0-8d81-0affec9420d9
DTSTAMP:20251217T020515Z
SUMMARY:MS Jazz Band
URL;VALUE=URI:https://www.sau14.org/emhs/calendar/8756995/ms-jazz-band
DTSTART:20251104T193000Z
DTEND:20251104T203000Z
END:VEVENT
END:VCALENDAR
