BEGIN:VCALENDAR
VERSION:2.0
PRODID:SchoolNow
CALSCALE:GREGORIAN
BEGIN:VEVENT
UID:cda2278e-b415-11f0-b575-0affec9420d9
DTSTAMP:20251217T020515Z
SUMMARY:MS Jazz Band
URL;VALUE=URI:https://www.sau14.org/emhs/calendar/8756996/ms-jazz-band
DTSTART:20251111T193000Z
DTEND:20251111T203000Z
END:VEVENT
END:VCALENDAR
