BEGIN:VCALENDAR
VERSION:2.0
PRODID:SchoolNow
CALSCALE:GREGORIAN
BEGIN:VEVENT
UID:cda22874-b415-11f0-b8f5-0affec9420d9
DTSTAMP:20251217T020515Z
SUMMARY:MS Jazz Band
URL;VALUE=URI:https://www.sau14.org/emhs/calendar/8756997/ms-jazz-band
DTSTART:20251118T193000Z
DTEND:20251118T203000Z
END:VEVENT
END:VCALENDAR
