BEGIN:VCALENDAR
VERSION:2.0
PRODID:SchoolNow
CALSCALE:GREGORIAN
BEGIN:VEVENT
UID:cda22964-b415-11f0-a8d1-0affec9420d9
DTSTAMP:20251217T020515Z
SUMMARY:MS Jazz Band
URL;VALUE=URI:https://www.sau14.org/emhs/calendar/8756998/ms-jazz-band
DTSTART:20251125T193000Z
DTEND:20251125T203000Z
END:VEVENT
END:VCALENDAR
