BEGIN:VCALENDAR
VERSION:2.0
PRODID:SchoolNow
CALSCALE:GREGORIAN
BEGIN:VEVENT
UID:cda22bbc-b415-11f0-80f4-0affec9420d9
DTSTAMP:20251217T020515Z
SUMMARY:MS Jazz Band
URL;VALUE=URI:https://www.sau14.org/emhs/calendar/8757000/ms-jazz-band
DTSTART:20251209T193000Z
DTEND:20251209T203000Z
END:VEVENT
END:VCALENDAR
