BEGIN:VCALENDAR
VERSION:2.0
PRODID:SchoolNow
CALSCALE:GREGORIAN
BEGIN:VEVENT
UID:cda23044-b415-11f0-a102-0affec9420d9
DTSTAMP:20251217T020515Z
SUMMARY:MS Jazz Band
URL;VALUE=URI:https://www.sau14.org/emhs/calendar/8757005/ms-jazz-band
DTSTART:20260113T193000Z
DTEND:20260113T203000Z
END:VEVENT
END:VCALENDAR
