BEGIN:VCALENDAR
VERSION:2.0
PRODID:SchoolNow
CALSCALE:GREGORIAN
BEGIN:VEVENT
UID:cda2333c-b415-11f0-a3ba-0affec9420d9
DTSTAMP:20251217T020515Z
SUMMARY:MS Jazz Band
URL;VALUE=URI:https://www.sau14.org/emhs/calendar/8757007/ms-jazz-band
DTSTART:20260127T193000Z
DTEND:20260127T203000Z
END:VEVENT
END:VCALENDAR
