BEGIN:VCALENDAR
VERSION:2.0
PRODID:SchoolNow
CALSCALE:GREGORIAN
BEGIN:VEVENT
UID:cda236d4-b415-11f0-bd2f-0affec9420d9
DTSTAMP:20251217T020515Z
SUMMARY:MS Jazz Band
URL;VALUE=URI:https://www.sau14.org/emhs/calendar/8757011/ms-jazz-band
DTSTART:20260224T193000Z
DTEND:20260224T203000Z
END:VEVENT
END:VCALENDAR
