BEGIN:VCALENDAR
VERSION:2.0
PRODID:SchoolNow
CALSCALE:GREGORIAN
BEGIN:VEVENT
UID:cda237b0-b415-11f0-8a4d-0affec9420d9
DTSTAMP:20251217T020515Z
SUMMARY:MS Jazz Band
URL;VALUE=URI:https://www.sau14.org/emhs/calendar/8757012/ms-jazz-band
DTSTART:20260303T193000Z
DTEND:20260303T203000Z
END:VEVENT
END:VCALENDAR
