BEGIN:VCALENDAR
VERSION:2.0
PRODID:SchoolNow
CALSCALE:GREGORIAN
BEGIN:VEVENT
UID:cda23e90-b415-11f0-986c-0affec9420d9
DTSTAMP:20251217T020515Z
SUMMARY:MS Jazz Band
URL;VALUE=URI:https://www.sau14.org/emhs/calendar/8757020/ms-jazz-band
DTSTART:20260428T183000Z
DTEND:20260428T193000Z
END:VEVENT
END:VCALENDAR
