BEGIN:VCALENDAR
VERSION:2.0
PRODID:SchoolNow
CALSCALE:GREGORIAN
BEGIN:VEVENT
UID:cda2403e-b415-11f0-81f4-0affec9420d9
DTSTAMP:20251217T020515Z
SUMMARY:MS Jazz Band
URL;VALUE=URI:https://www.sau14.org/emhs/calendar/8757022/ms-jazz-band
DTSTART:20260512T183000Z
DTEND:20260512T193000Z
END:VEVENT
END:VCALENDAR
