BEGIN:VCALENDAR
VERSION:2.0
PRODID:SchoolNow
CALSCALE:GREGORIAN
BEGIN:VEVENT
UID:c2fc5134-b4e1-11f0-bc0f-0a58a9feac02
DTSTAMP:20251217T020514Z
SUMMARY:Senior Class Trip- Newport RI & Six Flags
URL;VALUE=URI:https://www.sau14.org/emhs/calendar/8759322/senior-class-trip
 -newport-ri-six-flags
DTSTART;VALUE=DATE:20260529
DTEND;VALUE=DATE:20260601
END:VEVENT
END:VCALENDAR
