BEGIN:VCALENDAR
VERSION:2.0
PRODID:SchoolNow
CALSCALE:GREGORIAN
BEGIN:VEVENT
UID:b9b07a02-b5ad-11f0-ae8f-0e3c64c89401
DTSTAMP:20251217T020514Z
SUMMARY:Veteran's Day Luncheon 2025
URL;VALUE=URI:https://www.sau14.org/emhs/calendar/8761553/veterans-day-lunc
 heon-2025
DTSTART:20251107T170000Z
DTEND:20251107T180000Z
ATTACH;FILENAME=Veteran's Day Luncheon Sign In;FMTTYPE=application/octet-st
 ream:https://drive.google.com/open?id=1_VII7ijI4JMZAAFypht40vpQecxm3-jWojx
 wPFJgtHo
ATTACH;FILENAME=Veterans Day Honor Luncheon;FMTTYPE=application/octet-strea
 m:https://drive.google.com/open?id=1Akm_xokd0tsbR4B3_9q5IMNvomhD9zYXbtTdAw
 3OWGw
END:VEVENT
END:VCALENDAR
