BEGIN:VCALENDAR
VERSION:2.0
PRODID:SchoolNow
CALSCALE:GREGORIAN
BEGIN:VEVENT
UID:7aa1c51a-ba75-11f0-8973-0affe95a3715
DTSTAMP:20251217T020514Z
SUMMARY:Project Grad Wreath Pick Up
URL;VALUE=URI:https://www.sau14.org/emhs/calendar/8779117/project-grad-wrea
 th-pick-up
DTSTART:20251201T210000Z
DTEND:20251201T223000Z
END:VEVENT
END:VCALENDAR
