BEGIN:VCALENDAR
VERSION:2.0
PRODID:SchoolNow
CALSCALE:GREGORIAN
BEGIN:VEVENT
UID:7b3c1052-ba75-11f0-8362-0affe95a3715
DTSTAMP:20251217T020514Z
SUMMARY:Project Grad Meeting
LOCATION:M109
URL;VALUE=URI:https://www.sau14.org/emhs/calendar/8779118/project-grad-meet
 ing
DTSTART:20251106T231500Z
DTEND:20251107T003000Z
END:VEVENT
END:VCALENDAR
