BEGIN:VCALENDAR
VERSION:2.0
PRODID:SchoolNow
CALSCALE:GREGORIAN
BEGIN:VEVENT
UID:35ae2758-bfd6-11f0-9135-0a58a9feac02
DTSTAMP:20251217T020514Z
SUMMARY:UNH Band Extravaganza
URL;VALUE=URI:https://www.sau14.org/emhs/calendar/8791032/unh-band-extravag
 anza
DTSTART:20251121T144000Z
DTEND:20251121T171500Z
END:VEVENT
END:VCALENDAR
