BEGIN:VCALENDAR
VERSION:2.0
PRODID:SchoolNow
CALSCALE:GREGORIAN
BEGIN:VEVENT
UID:2764b0fe-c0d5-11f0-8cf3-0a58a9feac02
DTSTAMP:20251217T020514Z
SUMMARY:Reach High Scholars Parent Info Meeting : EMHS
URL;VALUE=URI:https://www.sau14.org/emhs/calendar/8794098/reach-high-schola
 rs-parent-info-meeting-emhs
DTSTART:20251204T204500Z
DTEND:20251204T224500Z
END:VEVENT
END:VCALENDAR
