BEGIN:VCALENDAR
VERSION:2.0
PRODID:SchoolNow
CALSCALE:GREGORIAN
BEGIN:VEVENT
UID:110eae78-c2a0-11f0-b517-0a58a9feac02
DTSTAMP:20251217T020515Z
SUMMARY:SCHOOL BOARD MEETING
URL;VALUE=URI:https://www.sau14.org/emhs/calendar/8797746/school-board-meet
 ing
DTSTART:20270715T230000Z
DTEND:20270716T010000Z
END:VEVENT
END:VCALENDAR
