BEGIN:VCALENDAR
VERSION:2.0
PRODID:SchoolNow
CALSCALE:GREGORIAN
BEGIN:VEVENT
UID:0161ab96-c3d2-11f0-882c-0a58a9feac02
DTSTAMP:20251217T020514Z
SUMMARY:Boys Varsity / JV Basketball Tryouts
URL;VALUE=URI:https://www.sau14.org/emhs/calendar/8799700/boys-varsity-jv-b
 asketball-tryouts
DTSTART:20251118T200000Z
DTEND:20251118T223000Z
END:VEVENT
END:VCALENDAR
