BEGIN:VCALENDAR
VERSION:2.0
PRODID:SchoolNow
CALSCALE:GREGORIAN
BEGIN:VEVENT
UID:0161adbc-c3d2-11f0-8e48-0a58a9feac02
DTSTAMP:20251217T020514Z
SUMMARY:Girls Varsity Basketball Tryouts
URL;VALUE=URI:https://www.sau14.org/emhs/calendar/8799701/girls-varsity-bas
 ketball-tryouts
DTSTART:20251119T223000Z
DTEND:20251120T000000Z
END:VEVENT
END:VCALENDAR
