BEGIN:VCALENDAR
VERSION:2.0
PRODID:SchoolNow
CALSCALE:GREGORIAN
BEGIN:VEVENT
UID:0210f8bc-c3d2-11f0-9b51-0a58a9feac02
DTSTAMP:20251217T020514Z
SUMMARY:Boys Varsity / JV Basketball Tryouts
URL;VALUE=URI:https://www.sau14.org/emhs/calendar/8799703/boys-varsity-jv-b
 asketball-tryouts
DTSTART:20251119T220000Z
DTEND:20251120T003000Z
END:VEVENT
END:VCALENDAR
