BEGIN:VCALENDAR
VERSION:2.0
PRODID:SchoolNow
CALSCALE:GREGORIAN
BEGIN:VEVENT
UID:021ffdc6-c3d2-11f0-8c3f-0a58a9feac02
DTSTAMP:20251217T020514Z
SUMMARY:MS Girls Basketball Tryouts
URL;VALUE=URI:https://www.sau14.org/emhs/calendar/8799706/ms-girls-basketba
 ll-tryouts
DTSTART:20251119T200000Z
DTEND:20251119T213000Z
END:VEVENT
END:VCALENDAR
