BEGIN:VCALENDAR
VERSION:2.0
PRODID:SchoolNow
CALSCALE:GREGORIAN
BEGIN:VEVENT
UID:02200460-c3d2-11f0-a515-0a58a9feac02
DTSTAMP:20251217T020514Z
SUMMARY:MS Boys Basketball Tryouts
URL;VALUE=URI:https://www.sau14.org/emhs/calendar/8799708/ms-boys-basketbal
 l-tryouts
DTSTART:20251120T213000Z
DTEND:20251120T233000Z
END:VEVENT
END:VCALENDAR
