BEGIN:VCALENDAR
VERSION:2.0
PRODID:SchoolNow
CALSCALE:GREGORIAN
BEGIN:VEVENT
UID:0220085c-c3d2-11f0-833d-0a58a9feac02
DTSTAMP:20251217T020514Z
SUMMARY:Boys Varsity / JV  Basketball Tryouts
URL;VALUE=URI:https://www.sau14.org/emhs/calendar/8799710/boys-varsity-jv-b
 asketball-tryouts
DTSTART:20251117T200000Z
DTEND:20251117T223000Z
END:VEVENT
END:VCALENDAR
