BEGIN:VCALENDAR
VERSION:2.0
PRODID:SchoolNow
CALSCALE:GREGORIAN
BEGIN:VEVENT
UID:f9475952-c49d-11f0-a75d-0a58a9feac02
DTSTAMP:20251217T020514Z
SUMMARY:Sophomore Class  Field Trip - SST Sneak Peek
URL;VALUE=URI:https://www.sau14.org/emhs/calendar/8801739/sophomore-class-f
 ield-trip-sst-sneak-peek
DTSTART:20260127T162000Z
DTEND:20260127T191000Z
END:VEVENT
END:VCALENDAR
