BEGIN:VCALENDAR
VERSION:2.0
PRODID:SchoolNow
CALSCALE:GREGORIAN
BEGIN:VEVENT
UID:e3b20940-c635-11f0-b3a0-0a58a9feac02
DTSTAMP:20251217T020514Z
SUMMARY:Green Tech Field Trip - Pumpkin Wall Farm
URL;VALUE=URI:https://www.sau14.org/emhs/calendar/8805391/green-tech-field-
 trip-pumpkin-wall-farm
DTSTART:20251124T140000Z
DTEND:20251124T190000Z
END:VEVENT
END:VCALENDAR
