BEGIN:VCALENDAR
VERSION:2.0
PRODID:SchoolNow
CALSCALE:GREGORIAN
BEGIN:VEVENT
UID:b9cd87d4-c965-11f0-b82f-0a58a9feac02
DTSTAMP:20251217T020514Z
SUMMARY:Winter Formal Dance
LOCATION:Allen Gym
URL;VALUE=URI:https://www.sau14.org/emhs/calendar/8809069/winter-formal-dan
 ce
DTSTART:20260110T233000Z
DTEND:20260111T020000Z
END:VEVENT
END:VCALENDAR
