BEGIN:VCALENDAR
VERSION:2.0
PRODID:SchoolNow
CALSCALE:GREGORIAN
BEGIN:VEVENT
UID:b0c63f7e-ca31-11f0-b5d4-0a58a9feac02
DTSTAMP:20251217T020514Z
SUMMARY:EMHS Outing Club - Pats Peak
URL;VALUE=URI:https://www.sau14.org/emhs/calendar/8809746/emhs-outing-club-
 pats-peak
DTSTART:20260115T174500Z
DTEND:20260116T020000Z
END:VEVENT
END:VCALENDAR
