BEGIN:VCALENDAR
VERSION:2.0
PRODID:SchoolNow
CALSCALE:GREGORIAN
BEGIN:VEVENT
UID:71d792dc-cef9-11f0-ac08-0a58a9feac02
DTSTAMP:20251217T020514Z
SUMMARY:Senior Class Trip Parent Meeting
LOCATION:Laura Dodge Cafe
URL;VALUE=URI:https://www.sau14.org/emhs/calendar/8814848/senior-class-trip
 -parent-meeting
DTSTART:20251211T230000Z
DTEND:20251211T233000Z
END:VEVENT
END:VCALENDAR
