BEGIN:VCALENDAR
VERSION:2.0
PRODID:SchoolNow
CALSCALE:GREGORIAN
BEGIN:VEVENT
UID:71d79606-cef9-11f0-96cc-0a58a9feac02
DTSTAMP:20251217T020514Z
SUMMARY:Make Up Winter Formal Dance
LOCATION:Allen Gym
URL;VALUE=URI:https://www.sau14.org/emhs/calendar/8814849/make-up-winter-fo
 rmal-dance
DTSTART:20260207T233000Z
DTEND:20260208T020000Z
END:VEVENT
END:VCALENDAR
