BEGIN:VCALENDAR
VERSION:2.0
PRODID:SchoolNow
CALSCALE:GREGORIAN
BEGIN:VEVENT
UID:729edbb2-cef9-11f0-8d7c-0a58a9feac02
DTSTAMP:20251217T020514Z
SUMMARY:Final Washington DC Parent Meeting
LOCATION:Laura Didge Cafe
URL;VALUE=URI:https://www.sau14.org/emhs/calendar/8814850/final-washington-
 dc-parent-meeting
DTSTART:20260305T230000Z
DTEND:20260305T233000Z
END:VEVENT
END:VCALENDAR
