BEGIN:VCALENDAR
VERSION:2.0
PRODID:SchoolNow
CALSCALE:GREGORIAN
BEGIN:VEVENT
UID:58b02372-d12a-11f0-92ca-0a58a9feac02
DTSTAMP:20251217T020514Z
SUMMARY:Project Grad Tree and Wreath Sale
LOCATION:American Legion\, 232 Calef Hwy\, Epping\, NH 03042\, USA
URL;VALUE=URI:https://www.sau14.org/emhs/calendar/8817308/project-grad-tree
 -and-wreath-sale
DTSTART:20251206T140000Z
DTEND:20251206T200000Z
END:VEVENT
END:VCALENDAR
