BEGIN:VCALENDAR
VERSION:2.0
PRODID:SchoolNow
CALSCALE:GREGORIAN
BEGIN:VEVENT
UID:27c515d6-d48d-11f0-8952-0afff21bf1e5
DTSTAMP:20251217T020514Z
SUMMARY:Science Olympiad Competition
URL;VALUE=URI:https://www.sau14.org/emhs/calendar/8820194/science-olympiad-
 competition
DTSTART;VALUE=DATE:20260328
DTEND;VALUE=DATE:20260329
END:VEVENT
END:VCALENDAR
