BEGIN:VCALENDAR
VERSION:2.0
PRODID:SchoolNow
CALSCALE:GREGORIAN
BEGIN:VEVENT
UID:0c0412f6-d6be-11f0-81eb-0a58a9feac02
DTSTAMP:20251217T020514Z
SUMMARY:EMHS Holiday Spirit Week - Famous Holiday Character Day
URL;VALUE=URI:https://www.sau14.org/emhs/calendar/8821855/emhs-holiday-spir
 it-week-famous-holiday-character-day
DTSTART;VALUE=DATE:20251217
DTEND;VALUE=DATE:20251218
END:VEVENT
END:VCALENDAR
