BEGIN:VCALENDAR
VERSION:2.0
PRODID:SchoolNow
CALSCALE:GREGORIAN
BEGIN:VEVENT
UID:0c041620-d6be-11f0-b76d-0a58a9feac02
DTSTAMP:20251217T020514Z
SUMMARY:EMHS Holiday Spirit Week - Flannel Day
URL;VALUE=URI:https://www.sau14.org/emhs/calendar/8821856/emhs-holiday-spir
 it-week-flannel-day
DTSTART;VALUE=DATE:20251216
DTEND;VALUE=DATE:20251217
END:VEVENT
END:VCALENDAR
