BEGIN:VCALENDAR
VERSION:2.0
PRODID:SchoolNow
CALSCALE:GREGORIAN
BEGIN:VEVENT
UID:0c041828-d6be-11f0-b8e1-0a58a9feac02
DTSTAMP:20251217T020514Z
SUMMARY:EMHS Holiday Spirit Week - Ugly Sweater Day
URL;VALUE=URI:https://www.sau14.org/emhs/calendar/8821857/emhs-holiday-spir
 it-week-ugly-sweater-day
DTSTART;VALUE=DATE:20251215
DTEND;VALUE=DATE:20251216
END:VEVENT
END:VCALENDAR
