BEGIN:VCALENDAR
VERSION:2.0
PRODID:SchoolNow
CALSCALE:GREGORIAN
BEGIN:VEVENT
UID:0c91394c-d6be-11f0-86d4-0a58a9feac02
DTSTAMP:20251217T020514Z
SUMMARY:EMHS Holiday Spirit Week - Winter Sports Fan Day
URL;VALUE=URI:https://www.sau14.org/emhs/calendar/8821860/emhs-holiday-spir
 it-week-winter-sports-fan-day
DTSTART;VALUE=DATE:20251218
DTEND;VALUE=DATE:20251219
END:VEVENT
END:VCALENDAR
