BEGIN:VCALENDAR
VERSION:2.0
PRODID:SchoolNow
CALSCALE:GREGORIAN
BEGIN:VEVENT
UID:0a2a917a-d6f1-11f0-8219-0ed359341627
DTSTAMP:20251217T020514Z
SUMMARY:MS Creative Writing Club
URL;VALUE=URI:https://www.sau14.org/emhs/calendar/8822537/ms-creative-writi
 ng-club
DTSTART:20251215T193000Z
DTEND:20251215T203000Z
END:VEVENT
END:VCALENDAR
