BEGIN:VCALENDAR
VERSION:2.0
PRODID:SchoolNow
CALSCALE:GREGORIAN
BEGIN:VEVENT
UID:0a2a9616-d6f1-11f0-8873-0ed359341627
DTSTAMP:20251217T020514Z
SUMMARY:MS Creative Writing Club
URL;VALUE=URI:https://www.sau14.org/emhs/calendar/8822538/ms-creative-writi
 ng-club
DTSTART:20260202T193000Z
DTEND:20260202T203000Z
END:VEVENT
END:VCALENDAR
