BEGIN:VCALENDAR
VERSION:2.0
PRODID:SchoolNow
CALSCALE:GREGORIAN
BEGIN:VEVENT
UID:0b6778e6-d6f1-11f0-be08-0ed359341627
DTSTAMP:20251217T020514Z
SUMMARY:EMHS Holiday Spirit Week - Pajama Day !
URL;VALUE=URI:https://www.sau14.org/emhs/calendar/8822547/emhs-holiday-spir
 it-week-pajama-day
DTSTART;VALUE=DATE:20251219
DTEND;VALUE=DATE:20251220
END:VEVENT
END:VCALENDAR
