BEGIN:VCALENDAR
VERSION:2.0
PRODID:SchoolNow
CALSCALE:GREGORIAN
BEGIN:VEVENT
UID:0b7abf96-d6f1-11f0-ae4c-0ed359341627
DTSTAMP:20251217T020515Z
SUMMARY:Class Of 2028 SEE's Valentine Candy Online Fundraiser
URL;VALUE=URI:https://www.sau14.org/emhs/calendar/8822550/class-of-2028-see
 s-valentine-candy-online-fundraiser
DTSTART;VALUE=DATE:20260111
DTEND;VALUE=DATE:20260112
END:VEVENT
END:VCALENDAR
