BEGIN:VCALENDAR
VERSION:2.0
PRODID:SchoolNow
CALSCALE:GREGORIAN
BEGIN:VEVENT
UID:0b7ac1a8-d6f1-11f0-acd8-0ed359341627
DTSTAMP:20251217T020515Z
SUMMARY:Class Of 2028 SEE's Valentine Candy Online Fundraiser
URL;VALUE=URI:https://www.sau14.org/emhs/calendar/8822552/class-of-2028-see
 s-valentine-candy-online-fundraiser
DTSTART;VALUE=DATE:20260113
DTEND;VALUE=DATE:20260114
END:VEVENT
END:VCALENDAR
